BEGIN:VCALENDAR
VERSION:2.0
PRODID:-//Beal Parish Council//Meeting Calendar//EN
CALSCALE:GREGORIAN
METHOD:PUBLISH
BEGIN:VEVENT
UID:70967-20250507@bealparishcouncil.gov.uk
DTSTAMP:20260421T100652Z
DTSTART;VALUE=DATE:20250507
DTEND;VALUE=DATE:20250508
SUMMARY:Annual Parish Meeting. 7th May 2025
DESCRIPTION:Annual Parish Meeting\nView details: https://bealparishcouncil.gov.uk/meetings/annual-parish-meeting/
URL:https://bealparishcouncil.gov.uk/meetings/annual-parish-meeting/
END:VEVENT
END:VCALENDAR
