BEGIN:VCALENDAR
VERSION:2.0
PRODID:-//Beal Parish Council//Meeting Calendar//EN
CALSCALE:GREGORIAN
METHOD:PUBLISH
BEGIN:VEVENT
UID:70897-20250305@bealparishcouncil.gov.uk
DTSTAMP:20260421T100911Z
DTSTART;VALUE=DATE:20250305
DTEND;VALUE=DATE:20250306
SUMMARY:Council Meeting. 5th March 2025
DESCRIPTION:Full Council Meeting\nView details: https://bealparishcouncil.gov.uk/meetings/council-meeting/
URL:https://bealparishcouncil.gov.uk/meetings/council-meeting/
END:VEVENT
END:VCALENDAR
