BEGIN:VCALENDAR
VERSION:2.0
PRODID:-//Beal Parish Council//Meeting Calendar//EN
CALSCALE:GREGORIAN
METHOD:PUBLISH
BEGIN:VEVENT
UID:70729-20200506@bealparishcouncil.gov.uk
DTSTAMP:20260419T150832Z
DTSTART;VALUE=DATE:20200506
DTEND;VALUE=DATE:20200507
SUMMARY:Annual Meeting &#8211\\; 6th May 2020 (Cancelled due to Covid 19)
DESCRIPTION:Annual Parish Meeting\nView details: https://bealparishcouncil.gov.uk/meetings/annual-meeting-6th-may-2020/
URL:https://bealparishcouncil.gov.uk/meetings/annual-meeting-6th-may-2020/
END:VEVENT
END:VCALENDAR
